BEGIN:VCALENDAR
VERSION:2.0
PRODID:-//Les Molières - Essonne 91470 - ECPv6.15.20//NONSGML v1.0//EN
CALSCALE:GREGORIAN
METHOD:PUBLISH
X-WR-CALNAME:Les Molières - Essonne 91470
X-ORIGINAL-URL:https://www.lesmolieres.fr
X-WR-CALDESC:Évènements pour Les Molières - Essonne 91470
REFRESH-INTERVAL;VALUE=DURATION:PT1H
X-Robots-Tag:noindex
X-PUBLISHED-TTL:PT1H
BEGIN:VTIMEZONE
TZID:Europe/Helsinki
BEGIN:DAYLIGHT
TZOFFSETFROM:+0200
TZOFFSETTO:+0300
TZNAME:EEST
DTSTART:20250330T010000
END:DAYLIGHT
BEGIN:STANDARD
TZOFFSETFROM:+0300
TZOFFSETTO:+0200
TZNAME:EET
DTSTART:20251026T010000
END:STANDARD
BEGIN:DAYLIGHT
TZOFFSETFROM:+0200
TZOFFSETTO:+0300
TZNAME:EEST
DTSTART:20260329T010000
END:DAYLIGHT
BEGIN:STANDARD
TZOFFSETFROM:+0300
TZOFFSETTO:+0200
TZNAME:EET
DTSTART:20261025T010000
END:STANDARD
BEGIN:DAYLIGHT
TZOFFSETFROM:+0200
TZOFFSETTO:+0300
TZNAME:EEST
DTSTART:20270328T010000
END:DAYLIGHT
BEGIN:STANDARD
TZOFFSETFROM:+0300
TZOFFSETTO:+0200
TZNAME:EET
DTSTART:20271031T010000
END:STANDARD
END:VTIMEZONE
BEGIN:VEVENT
DTSTART;VALUE=DATE:20260418
DTEND;VALUE=DATE:20260503
DTSTAMP:20260419T150519
CREATED:20260401T184109Z
LAST-MODIFIED:20260406T172402Z
UID:24653-1776470400-1777766399@www.lesmolieres.fr
SUMMARY:Horaires vacances Médiathèque
DESCRIPTION:
URL:https://www.lesmolieres.fr/event/horaires-vacances-mediatheque/
LOCATION:Médiathèque des Molières
CATEGORIES:Médiathèque
ATTACH;FMTTYPE=image/png:https://www.lesmolieres.fr/wp-content/uploads/2026/04/hormed18avr2mai.png
END:VEVENT
END:VCALENDAR